BEGIN:VCALENDAR
VERSION:2.0
PRODID:-//Kolektif Psikoloji  - ECPv6.2.8.1//NONSGML v1.0//EN
CALSCALE:GREGORIAN
METHOD:PUBLISH
X-ORIGINAL-URL:https://kolektifpsikoloji.com
X-WR-CALDESC:Kolektif Psikoloji  için etkinlikler
REFRESH-INTERVAL;VALUE=DURATION:PT1H
X-Robots-Tag:noindex
X-PUBLISHED-TTL:PT1H
BEGIN:VTIMEZONE
TZID:Europe/Istanbul
BEGIN:STANDARD
TZOFFSETFROM:+0300
TZOFFSETTO:+0300
TZNAME:+03
DTSTART:20230101T000000
END:STANDARD
END:VTIMEZONE
BEGIN:VEVENT
DTSTART;TZID=Europe/Istanbul:20230402T130000
DTEND;TZID=Europe/Istanbul:20230403T143000
DTSTAMP:20260422T164518
CREATED:20220119T152617Z
LAST-MODIFIED:20230328T135008Z
UID:7346-1680440400-1680532200@kolektifpsikoloji.com
SUMMARY:Özgüven Atölyesi/Bir Orman MACERASI
DESCRIPTION:Çocuklar birçok duygularını kısıtlı duygu ifadeleriyle dışa vururlar. Ancak duygu repertuarları geliştikçe kendilerini daha farklı ifade edebilme başlar böylece olumsuz duygularını öfke\, üzüntü olumlu duygularını sadece mutluluk olarak göstermekten çıkarlar. Şaşkınlık\, hayal kırıklığı heyecan\, panik\, sıkıntı\, küskünlük sempati\, neşe\, keyif gibi pek çok duyguyu tanımaya ve farklı davranışlarla yansıtmaya başlarlar. Çocuk duygularını daha yakından tanıdıkça iletişim ve sosyal becerileri gelişir ve sorunlarını içe atmak yerine uygun şekilde dışa yansıtmayı öğrenir. Bu sebeple dışavurumcu terapi teknikleri çocukluk çağındaki bütün gelişim evrelerinde oldukça işlevsel bir metot olarak kullanılır. \nPsikodrama oyunlarından köken alan ” Çocuklar için Sosyal Beceri Atölyeleri” mizin  “ÖZGÜVEN” atölyesi ile sizleri buluşturmaktan mutluluk duyarız. \nÖzgüven\, bireyin bir şeyleri yapabilme\, bir işe başlayabilme\, tamamlayabilme\, başarabilme ve topluma olumlu katkı sağlayarak kendini faydalı hissetme becerisine duyduğu inançtır. \nÇocuklarda özgüven gelişimi deneyimleme\, başarmayı deneme ve karşılaştıkları güçlüklerle baş etmeyi öğrenme ile ivme kazanır. Yetenekleri ve ilgileri sürekli gelişen çocuklar\, ebeveynlerin kendilerini deneyimleme konusunda desteklemesi ile özsaygı ve özgüvenlerini geliştirirler. \nÇocukların sınırsız öğrenme imkanı buldukları yaşamda özsaygının oluşumunda en önemli etkenlerden biri destekleyici sosyal ortamdır. Çocuğun özgüveni\, kendisini güvende hissettiği ve kendisini ifade edebildiği ve keşfedebildiği bir sosyal ortamda gelişir. \nGrupta deneyimlediklerini\, sonrasında okulda ortaya koyma zamanı gelir. \nBiz bir orman hayal ettik. \nDuygu ormanında hep beraber bir yolculuğa çıkıyoruz. Hayal gücümüz\, arkadaşlarımız ve özgüvenimiz ile. Siz de katılmak ister misiniz? \n  \n\n\n 2 Nisan Pazar Günü ”Özgüven Atölyesi”\n\nSaat: 13.00-14.30\nKimler Katılabilir?\n\n8-10 Yaş Tüm çocuklar \nKontenjan 6 kişidir. \n\nAtölye Ücreti ne kadardır?\n\nEğitim ücreti 400 TL’dir. \n\nAtölye Yürütücüsü\n\nKlinik Psikolog Münire Merve Uzluk \nHakkında detaylı bilgi almak için tıklayınız. \nhttps://kolektifpsikoloji.com/team-member/munire-merve-uzluk/ \n 
URL:https://kolektifpsikoloji.com/etkinlik-egitim/cocuklar-icin-duygu-atolyeleri/
LOCATION:Kolektif Psikoloji\, Atatürk Mahallesi\, Sülün Cad. Cesur Ap. No:21/3 Ataşehir – İstanbul 34758\, istanbul\, 34140\, Türkiye
CATEGORIES:Çocuk,Psikodrama
ATTACH;FMTTYPE=image/png:https://kolektifpsikoloji.com/wp-content/uploads/2022/01/28-Ocak-Cumartesi-Saat10.00-12.00.png
ORGANIZER;CN="Kolektif Psikoloji":MAILTO:bilgi@kolektifpsikoloji.com
END:VEVENT
END:VCALENDAR